BEGIN:VCALENDAR
VERSION:2.0
PRODID:-//jEvents 2.0 for Joomla//EN
CALSCALE:GREGORIAN
METHOD:PUBLISH
BEGIN:VTIMEZONE
TZID:Europe/Berlin
BEGIN:STANDARD
DTSTART:20190316T080000
RDATE:20190331T030000
TZOFFSETFROM:+0200
TZOFFSETTO:+0100
TZNAME:Europe/Berlin CET
END:STANDARD
BEGIN:STANDARD
DTSTART:20191027T020000
RDATE:20200329T030000
TZOFFSETFROM:+0200
TZOFFSETTO:+0100
TZNAME:Europe/Berlin CET
END:STANDARD
BEGIN:STANDARD
DTSTART:20201025T020000
RDATE:20210328T030000
TZOFFSETFROM:+0200
TZOFFSETTO:+0100
TZNAME:Europe/Berlin CET
END:STANDARD
BEGIN:DAYLIGHT
DTSTART:20190331T030000
RDATE:20191027T020000
TZOFFSETFROM:+0100
TZOFFSETTO:+0200
TZNAME:Europe/Berlin CEST
END:DAYLIGHT
BEGIN:DAYLIGHT
DTSTART:20200329T030000
RDATE:20201025T020000
TZOFFSETFROM:+0100
TZOFFSETTO:+0200
TZNAME:Europe/Berlin CEST
END:DAYLIGHT
END:VTIMEZONE
BEGIN:VEVENT
UID:a17cb8450990d46d6a126c99ee22246f
CATEGORIES:DEFAULT
CREATED:20200326T123524
SUMMARY:Kein Übungsbetrieb wegen Corona
DESCRIPTION:Liebe Mitglieder,\nder Vorstand des TV hat die Pflicht, seine Mitglieder un
 d Übungsleiter vor gesundheitlichem Schaden zu schützen.\nEbenso deren Fami
 lienmitglieder, mit denen sie engen Kontakt haben.\nAufgrund der Ausbreitun
 g des Coronavirus hat der Vorstand beschlossen, den Übungsbetrieb aller Gru
 ppen des TV 05 Wetter ab Montag, 16.3.2020 bis zum Ende der Osterferien (19
 .4.2020) einzustellen\nEine evtl. Verlängerung geben wir am Ende der Ferien
  bekannt.\nDie für den 21.3.2020 geplante Jahreshauptversammlung wird versc
 hoben, der neue Termin wird zeitig bekanntgegeben.\nWir hoffen auf euer Ver
 ständnis und wünschen euch\nGesundheit!\n \nDer Vorstand des TV 05 Wetter\n
 Silke Wolf, Karl-Heinz Kajewski, Gerhard Zissel und Wolfgang NickelInfo (ht
 tp://www.tv05-wetter.de/index.php/veranstaltungen/586-kein-uebungsbetrieb-v
 on-mo-16-3-bis-so-19-4-2020-jahreshauptversammlung-wird-veschoben)\n
X-ALT-DESC;FMTTYPE=text/html:<p>Liebe Mitglieder,</p><p>der Vorstand des TV hat die Pflicht, seine Mitgl
 ieder und Übungsleiter vor gesundheitlichem Schaden zu schützen.<br />Ebens
 o deren Familienmitglieder, mit denen sie engen Kontakt haben.</p><p><span 
 style="color: #ff0000;"><span style="color: #000000;">Aufgrund der Ausbreit
 ung des</span> Coronavirus<span style="color: #000000;"> hat der Vorstand b
 eschlossen, den</span> Übungsbetrieb aller Gruppen des TV 05 Wetter ab Mont
 ag, <span class="ceHighlightDisabled cmp_parsed_date" data-cmpparseddate="2
 020-03-16" data-ce-class="Dates">16.3.2020</span> bis zum Ende der Osterfer
 ien (19.4.2020) einzustellen<br />Eine evtl. Verlängerung geben wir am Ende
  der Ferien bekannt.</span></p><p>Die für den <span class="ceHighlightDisab
 led cmp_parsed_date" data-cmpparseddate="2020-03-21" data-ce-class="Dates">
 21.3.2020</span> geplante <span style="color: #ff0000;">Jahreshauptversamml
 ung wird verschoben</span>, der neue Termin wird zeitig bekanntgegeben.</p>
 <p>Wir hoffen auf euer Verständnis und wünschen euch<br />Gesundheit!</p><p
 >&nbsp;</p><p>Der Vorstand des TV 05 Wetter</p><p>Silke Wolf, Karl-Heinz Ka
 jewski, Gerhard Zissel und Wolfgang Nickel<a href="http://www.tv05-wetter.d
 e/index.php/veranstaltungen/586-kein-uebungsbetrieb-von-mo-16-3-bis-so-19-4
 -2020-jahreshauptversammlung-wird-veschoben">Info</a></p>
DTSTAMP:20260424T213008
DTSTART;TZID=Europe/Berlin:20200316T080000
DTEND;TZID=Europe/Berlin:20200419T220000
SEQUENCE:0
TRANSP:OPAQUE
END:VEVENT
END:VCALENDAR