BEGIN:VCALENDAR
VERSION:2.0
PRODID:-//jEvents 2.0 for Joomla//EN
CALSCALE:GREGORIAN
METHOD:PUBLISH
BEGIN:VTIMEZONE
TZID:Europe/Berlin
END:VTIMEZONE
BEGIN:VEVENT
UID:67bee4483b72f5a3988937fac3b12973
CATEGORIES:DEFAULT
CREATED:20250112T100837
SUMMARY:Mitgliederversammlung 2025
DESCRIPTION:Einladung an alle Mitglieder und Freunde zur jährlichen Mitgliederversammlu
 ng des TV Wetter.\nTermin: Samstag, 8.3.2025, 18:00 Uhr im Vereinsheim (Im 
 Berntal 8, Wetter)\nIm Anschluss gemütliches Zusammensein und Imbiss.\n
X-ALT-DESC;FMTTYPE=text/html:<p>Einladung an alle Mitglieder und Freunde zur jährlichen Mitgliederversam
 mlung des TV Wetter.</p><p>Termin: Samstag, 8.3.2025, 18:00 Uhr im Vereinsh
 eim (Im Berntal 8, Wetter)</p><p>Im Anschluss gemütliches Zusammensein und 
 Imbiss.</p>
DTSTAMP:20260421T123931
DTSTART;TZID=Europe/Berlin:20250308T180000
SEQUENCE:0
TRANSP:OPAQUE
END:VEVENT
END:VCALENDAR